BEGIN:VCALENDAR
VERSION:2.0
PRODID:-//ShapeShifter Plus - ECPv6.15.20//NONSGML v1.0//EN
CALSCALE:GREGORIAN
METHOD:PUBLISH
X-WR-CALNAME:ShapeShifter Plus
X-ORIGINAL-URL:https://shapeshifterplus.org
X-WR-CALDESC:Events for ShapeShifter Plus
REFRESH-INTERVAL;VALUE=DURATION:PT1H
X-Robots-Tag:noindex
X-PUBLISHED-TTL:PT1H
BEGIN:VTIMEZONE
TZID:America/Halifax
BEGIN:DAYLIGHT
TZOFFSETFROM:-0400
TZOFFSETTO:-0300
TZNAME:ADT
DTSTART:20230312T060000
END:DAYLIGHT
BEGIN:STANDARD
TZOFFSETFROM:-0300
TZOFFSETTO:-0400
TZNAME:AST
DTSTART:20231105T050000
END:STANDARD
BEGIN:DAYLIGHT
TZOFFSETFROM:-0400
TZOFFSETTO:-0300
TZNAME:ADT
DTSTART:20240310T060000
END:DAYLIGHT
BEGIN:STANDARD
TZOFFSETFROM:-0300
TZOFFSETTO:-0400
TZNAME:AST
DTSTART:20241103T050000
END:STANDARD
BEGIN:DAYLIGHT
TZOFFSETFROM:-0400
TZOFFSETTO:-0300
TZNAME:ADT
DTSTART:20250309T060000
END:DAYLIGHT
BEGIN:STANDARD
TZOFFSETFROM:-0300
TZOFFSETTO:-0400
TZNAME:AST
DTSTART:20251102T050000
END:STANDARD
END:VTIMEZONE
BEGIN:VEVENT
DTSTART;TZID=America/Halifax:20240502T200000
DTEND;TZID=America/Halifax:20240502T210000
DTSTAMP:20260421T070821
CREATED:20240314T221321Z
LAST-MODIFIED:20240427T023559Z
UID:12726-1714680000-1714683600@shapeshifterplus.org
SUMMARY:Culture Night - Iseul Kim's Two Voices
DESCRIPTION:Iseul Kim- Piano/ Voice\nLee Kyung Kang- Haegeum\nWoosung Jung – Daegeum\nFung Chern Hwei – Violin\nMariel Roberts – Cello\nSamantha Kochis – Flute\nEthan Cohn – Bass\nT.B.A – Drums/ Percussion \nExperience the captivating fusion of Korean traditional\, Western classical\, jazz\, and world music genres with Iseul Kim’s Two Voices live in concert. Renowned for her innovative blend and original musical ideas\, Iseul Kim showcases her mastery of diverse instrumentation in a performance that promises to mesmerize audiences. \nThe debut album of Iseul Kim’s Two Voices has garnered critical acclaim\, earning a nomination at the prestigious Korean Music Awards. This recognition underscores the unique and exceptional talent of Iseul Kim and her ensemble. Following the success of their debut album\, Iseul Kim’s Two Voices is set to embark on a European tour\, generously sponsored by the Korea Art Council. This tour presents a rare opportunity for European audiences to experience the groundbreaking sounds of Iseul Kim’s innovative musical vision.
URL:https://shapeshifterplus.org/event/iseul-kim-may-2/
LOCATION:ShapeShifter Lab\, 837 Union Street\, Ground Floor\, Brooklyn\, NY\, 11215\, United States
CATEGORIES:Live Music,Open Call Program
ATTACH;FMTTYPE=image/jpeg:https://shapeshifterplus.org/wp-content/uploads/2024/03/TV2-scaled.jpg
END:VEVENT
END:VCALENDAR