BEGIN:VCALENDAR
VERSION:2.0
PRODID:-//ShapeShifter Plus - ECPv6.15.20//NONSGML v1.0//EN
CALSCALE:GREGORIAN
METHOD:PUBLISH
X-ORIGINAL-URL:https://shapeshifterplus.org
X-WR-CALDESC:Events for ShapeShifter Plus
REFRESH-INTERVAL;VALUE=DURATION:PT1H
X-Robots-Tag:noindex
X-PUBLISHED-TTL:PT1H
BEGIN:VTIMEZONE
TZID:America/Halifax
BEGIN:DAYLIGHT
TZOFFSETFROM:-0400
TZOFFSETTO:-0300
TZNAME:ADT
DTSTART:20230312T060000
END:DAYLIGHT
BEGIN:STANDARD
TZOFFSETFROM:-0300
TZOFFSETTO:-0400
TZNAME:AST
DTSTART:20231105T050000
END:STANDARD
BEGIN:DAYLIGHT
TZOFFSETFROM:-0400
TZOFFSETTO:-0300
TZNAME:ADT
DTSTART:20240310T060000
END:DAYLIGHT
BEGIN:STANDARD
TZOFFSETFROM:-0300
TZOFFSETTO:-0400
TZNAME:AST
DTSTART:20241103T050000
END:STANDARD
BEGIN:DAYLIGHT
TZOFFSETFROM:-0400
TZOFFSETTO:-0300
TZNAME:ADT
DTSTART:20250309T060000
END:DAYLIGHT
BEGIN:STANDARD
TZOFFSETFROM:-0300
TZOFFSETTO:-0400
TZNAME:AST
DTSTART:20251102T050000
END:STANDARD
END:VTIMEZONE
BEGIN:VEVENT
DTSTART;TZID=America/Halifax:20240501T120000
DTEND;TZID=America/Halifax:20240501T150000
DTSTAMP:20260421T052242
CREATED:20240424T000607Z
LAST-MODIFIED:20240424T000803Z
UID:13553-1714564800-1714575600@shapeshifterplus.org
SUMMARY:Workshops & Jam Sessions Hosted by Matt Garrison
DESCRIPTION:Wednesdays. 12-12:45pm \nWorkshop\, 1-3pm \n  \nWorkshops & Jam Sessions Hosted by Matt Garrison @ShapeShifterLab\nEvery Wednesday in May\, 2024\n\n\n12-12:45 pm Workshop: Jam Session Ideas/Approaches\n\n\n\nMatt will discuss how the Jam Sessions he hosts can and will be approached.\nHe will discuss: Songs\, Forms\, Improvisation\, Dynamics\, Tempos\, Feel\, Genres\, Technique\, Emotional State and other important topics that will set the stage for the actual ShapeShifter Lab Jam Session.\nHe feels that doing so will give a strong basis for all jammers to get a sense of what’s possible.\nThe further idea of the workshop is to trigger a conversation\, spark ideas and open the floor for clear dialogue about a possible set of Jam Session frameworks.\nAll Experience levels welcome! FREE!\n\n\n\n1-3pm Jam Session
URL:https://shapeshifterplus.org/event/workshops-jam-sessions-hosted-by-matt-garrison-7/
LOCATION:ShapeShifter Lab\, 837 Union Street\, Ground Floor\, Brooklyn\, NY\, 11215\, United States
CATEGORIES:Education,Live Music,Open Jam
ATTACH;FMTTYPE=image/png:https://shapeshifterplus.org/wp-content/uploads/2024/04/May-2024-Jams.png
END:VEVENT
BEGIN:VEVENT
DTSTART;TZID=America/Halifax:20240501T190000
DTEND;TZID=America/Halifax:20240501T200000
DTSTAMP:20260421T052242
CREATED:20240410T031213Z
LAST-MODIFIED:20240410T033545Z
UID:13273-1714590000-1714593600@shapeshifterplus.org
SUMMARY:Ines Velasco Large Ensemble  ‘A Flash of Cobalt Blue’ Pre-Album Release Show
DESCRIPTION:‘A Flash of Cobalt Blue’ is Ines Velasco’s debut big band album. The project is a collaboration with award-winning Mexican poet Jorge Esquinca\, and is directly inspired by the poetry of his book ‘Descripción de un brillo azul cobalto’ (‘Description of a flash of cobalt blue’).\n  \n\nThe book travels between past and present\, navigating the Pacific coast of Mexico and wandering through the streets of Paris\, blending memory with imagination\, and sorrow with affection. Jorge’s recorded voice will also be featured as an integral part of the composition themselves.\n  \n\nThis evening will premiere the music written for this project for a 17-piece band before recording it in the studio. The musicians:\n\nSam Hoyt – trumpet\nBobby Spellman – trumpet\nDave Smith – trumpet\nJoey Kendrick – trumpet\nAlex Ramírez – alto sax\nGideon Forbes – alto sax\nJohn Lowery – tenor sax\nNathan See – tenor sax\nKenny Pexton – bari sax\nNick Grinder – trombone\nSam Blakeslee – trombone\nGreg DeAngelis – trombone\nJulie Dombrowski – bass trombone\nAndrew Boudreau – piano\nJacob Aviner – guitar\nEduardo Belo – bass\nJK Kim – drums\nSpecial guest – Catey Esler\, vocals\n\nTeaser\n—–\n\nphoto credit: Brandon Johnson
URL:https://shapeshifterplus.org/event/ines-velasco/
LOCATION:ShapeShifter Lab\, 837 Union Street\, Ground Floor\, Brooklyn\, NY\, 11215\, United States
CATEGORIES:Live Music,Open Call Program
ATTACH;FMTTYPE=image/jpeg:https://shapeshifterplus.org/wp-content/uploads/2024/04/3_credit-Brandon-Johnson-2.jpg
END:VEVENT
END:VCALENDAR